BEGIN:VCALENDAR
VERSION:2.0
PRODID:-//linuxsoftware.nz//NONSGML Joyous v1.4//EN
BEGIN:VEVENT
SUMMARY:High-intensity and nonlinear structured light
DTSTART:20250514T160000Z
DTEND:20250514T170000Z
DTSTAMP:20260422T141834Z
UID:f6c85e20-f69a-4a75-b801-1825bb93ad6a
SEQUENCE:2
CREATED:20250508T084516Z
DESCRIPTION:High-intensity structured light could one day power the world
 —provided we figure out laser fusion (an enormous if!) using metasurface
 s patterned with tiny\, extremely precise nanostructures. Meanwhile\, nonl
 inear structured photonics might unravel the very mystery of life\, assumi
 ng photons can learn how to spontaneously self-organize into artificial li
 ving creatures. Both goals are equally absurd and irresistible. This Collo
 quium explores these grand ambitions\, where the only certainty is that th
 e journey ahead will be nonlinear\, intense\, and hopefully illuminating.
LAST-MODIFIED:20250514T084800Z
LOCATION:Room EA5 (Mechanics Building I) do IST
URL:http://df.vps.tecnico.ulisboa.pt/en/events/high-intensity-and-nonlinea
 r-structured-light/
X-ALT-DESC;FMTTYPE=text/html:<p data-block-key="2lirp">High-intensity stru
 ctured light could one day power the world—provided we figure out laser 
 fusion (an enormous if!) using metasurfaces patterned with tiny\, extremel
 y precise nanostructures. Meanwhile\, nonlinear structured photonics might
  unravel the very mystery of life\, assuming photons can learn how to spon
 taneously self-organize into artificial living creatures. Both goals are e
 qually absurd and irresistible. This Colloquium explores these grand ambit
 ions\, where the only certainty is that the journey ahead will be nonlinea
 r\, intense\, and hopefully illuminating.</p>
END:VEVENT
END:VCALENDAR
