BEGIN:VCALENDAR
VERSION:2.0
PRODID:-//linuxsoftware.nz//NONSGML Joyous v1.4//EN
BEGIN:VEVENT
SUMMARY:Memory and tail effects for interacting scalar fields
DTSTART:20250612T143000Z
DTEND:20250612T160000Z
DTSTAMP:20260422T175307Z
UID:a6bf9648-77e9-4f73-8894-d6b2e7af2f82
SEQUENCE:1
CREATED:20250606T104444Z
DESCRIPTION: Interactions and self-interactions of nearly massless scalar 
 fields can be relevant to both dark matter and dark energy. Here we use th
 e Schwinger-Keldysh approach to the effective field theory of a binary sys
 tem coupled to a scalar field to analyse memory effects along hyperbolic o
 rbits or tail effects and their consequences for the dynamics of the binar
 y system. 
LAST-MODIFIED:20250606T104444Z
LOCATION:DF Seminar Room (2-8.3)\, 2nd floor of Physics Building
URL:http://df.vps.tecnico.ulisboa.pt/en/events/memory-and-tail-effects-for
 -interacting-scalar-fields/
X-ALT-DESC;FMTTYPE=text/html:<p data-block-key="4pphp"> Interactions and s
 elf-interactions of nearly massless scalar fields can be relevant to both 
 dark matter and dark energy. Here we use the Schwinger-Keldysh approach to
  the effective field theory of a binary system coupled to a scalar field t
 o analyse memory effects along hyperbolic orbits or tail effects and their
  consequences for the dynamics of the binary system. </p>
END:VEVENT
END:VCALENDAR
